BEGIN:VCALENDAR
VERSION:2.0
PRODID:-//Powerlifting America - ECPv6.15.17.1//NONSGML v1.0//EN
CALSCALE:GREGORIAN
METHOD:PUBLISH
X-WR-CALNAME:Powerlifting America
X-ORIGINAL-URL:https://powerlifting-america.com
X-WR-CALDESC:Events for Powerlifting America
REFRESH-INTERVAL;VALUE=DURATION:PT1H
X-Robots-Tag:noindex
X-PUBLISHED-TTL:PT1H
BEGIN:VTIMEZONE
TZID:America/New_York
BEGIN:DAYLIGHT
TZOFFSETFROM:-0500
TZOFFSETTO:-0400
TZNAME:EDT
DTSTART:20230312T070000
END:DAYLIGHT
BEGIN:STANDARD
TZOFFSETFROM:-0400
TZOFFSETTO:-0500
TZNAME:EST
DTSTART:20231105T060000
END:STANDARD
BEGIN:DAYLIGHT
TZOFFSETFROM:-0500
TZOFFSETTO:-0400
TZNAME:EDT
DTSTART:20240310T070000
END:DAYLIGHT
BEGIN:STANDARD
TZOFFSETFROM:-0400
TZOFFSETTO:-0500
TZNAME:EST
DTSTART:20241103T060000
END:STANDARD
BEGIN:DAYLIGHT
TZOFFSETFROM:-0500
TZOFFSETTO:-0400
TZNAME:EDT
DTSTART:20250309T070000
END:DAYLIGHT
BEGIN:STANDARD
TZOFFSETFROM:-0400
TZOFFSETTO:-0500
TZNAME:EST
DTSTART:20251102T060000
END:STANDARD
END:VTIMEZONE
BEGIN:VEVENT
DTSTART;VALUE=DATE:20240427
DTEND;VALUE=DATE:20240428
DTSTAMP:20260422T233019
CREATED:20240201T004928Z
LAST-MODIFIED:20240201T004928Z
UID:10001833-1714176000-1714262399@powerlifting-america.com
SUMMARY:6th Annual Powerlifting America Southern States Championships
DESCRIPTION:Sanction #: 2024-FL-15 \nEvent Director: Robert Keller \nRegistration: Enter Here
URL:https://powerlifting-america.com/event/6th-annual-powerlifting-america-southern-states-championships/
LOCATION:Steel Mill CrossFit & Gym\, 2320 Market Drive\, Fleming Island\, FL\, 32003\, United States
CATEGORIES:PA
ATTACH;FMTTYPE=image/png:https://powerlifting-america.com/wp-content/uploads/2022/02/Powerlifting-America-Logo-HOZ-1-Black-light-bckgrd@3x.png
ORGANIZER;CN="Robert Keller":MAILTO:rhk@verizon.net
END:VEVENT
BEGIN:VEVENT
DTSTART;VALUE=DATE:20240427
DTEND;VALUE=DATE:20240428
DTSTAMP:20260422T233019
CREATED:20231211T214013Z
LAST-MODIFIED:20231211T214013Z
UID:10001816-1714176000-1714262399@powerlifting-america.com
SUMMARY:2024 Powerlifting America DNA Legacy Showcase
DESCRIPTION:Sanction #: 2024-GA-03 \nEvent Director: David Waters \nRegistration: Register Here \nMore Information: Coming Soon
URL:https://powerlifting-america.com/event/2024-powerlifting-america-dna-legacy-showcase/
LOCATION:DNA Strength\, 3039 Amwiler Rd\, Suite 112\, Peachtree Corners\, GA\, 30360\, United States
END:VEVENT
BEGIN:VEVENT
DTSTART;VALUE=DATE:20240504
DTEND;VALUE=DATE:20240505
DTSTAMP:20260422T233019
CREATED:20231107T194148Z
LAST-MODIFIED:20231107T194148Z
UID:10001810-1714780800-1714867199@powerlifting-america.com
SUMMARY:7th Annual Powerlifting America Florida High School State Championships
DESCRIPTION:Sanction #: 2024-FL-10 \nEvent Director: Robert Keller \nRegistration: Enter Here \nMore Information: Florida Powerlifting
URL:https://powerlifting-america.com/event/7th-annual-powerlifting-america-florida-high-school-state-championships/
LOCATION:Bear Iron Barbell\, 194 US Highway 27\, Suite G\, Clermont\, FL\, 34711\, United States
CATEGORIES:PA
ATTACH;FMTTYPE=image/png:https://powerlifting-america.com/wp-content/uploads/2022/02/Powerlifting-America-Logo-HOZ-1-Black-light-bckgrd@3x.png
ORGANIZER;CN="Robert Keller":MAILTO:rhk@verizon.net
END:VEVENT
BEGIN:VEVENT
DTSTART;VALUE=DATE:20240504
DTEND;VALUE=DATE:20240505
DTSTAMP:20260422T233019
CREATED:20240427T173400Z
LAST-MODIFIED:20240427T173400Z
UID:10001865-1714780800-1714867199@powerlifting-america.com
SUMMARY:Powerlifting America No Frills Pinnacle Qualifier
DESCRIPTION:Sanction #: 2024-OH-04 \nEvent Directors: John Downing
URL:https://powerlifting-america.com/event/powerlifting-america-no-frills-pinnacle-qualifier/
LOCATION:Pinnacle Performance\, 640 West Rich St\, Columbus\, OH\, 43215\, United States
CATEGORIES:PA
ATTACH;FMTTYPE=image/png:https://powerlifting-america.com/wp-content/uploads/2022/02/Powerlifting-America-Logo-HOZ-1-Black-light-bckgrd@3x.png
END:VEVENT
BEGIN:VEVENT
DTSTART;VALUE=DATE:20240504
DTEND;VALUE=DATE:20240505
DTSTAMP:20260422T233019
CREATED:20231103T004308Z
LAST-MODIFIED:20231103T004308Z
UID:10001797-1714780800-1714867199@powerlifting-america.com
SUMMARY:2024 Powerlifting America That's No Moon
DESCRIPTION:Sanction #: 2024-IL-06 \nEvent Director: Sebastian Carcione \nRegistration: Enter Here \nMore Information: Click Here
URL:https://powerlifting-america.com/event/2024-powerlifting-america-thats-no-moon/
LOCATION:MPG Fitness\, 3600 Thayer Ct\, Unit 500\, Aurora\, IL\, 60504\, United States
CATEGORIES:PA
END:VEVENT
BEGIN:VEVENT
DTSTART;VALUE=DATE:20240504
DTEND;VALUE=DATE:20240505
DTSTAMP:20260422T233019
CREATED:20231007T232917Z
LAST-MODIFIED:20231007T232917Z
UID:10001790-1714780800-1714867199@powerlifting-america.com
SUMMARY:2024 Powerlifting America Upstate Classic
DESCRIPTION:Sanction #: 2024-SC-01 \nEvent Director: Megan Powell \nRegistration: Enter Here \nMore Information: PSB Productions
URL:https://powerlifting-america.com/event/2024-powerlifting-america-upstate-classic/
LOCATION:Palmetto State Barbell\, 1400-A W Wade Hampton Blvd\, Greer\, SC\, 29650\, United States
CATEGORIES:PA
END:VEVENT
BEGIN:VEVENT
DTSTART;VALUE=DATE:20240504
DTEND;VALUE=DATE:20240505
DTSTAMP:20260422T233019
CREATED:20230915T195500Z
LAST-MODIFIED:20230915T195500Z
UID:10001779-1714780800-1714867199@powerlifting-america.com
SUMMARY:2024 Powerlifting America New Jersey\, Maryland\, Delaware\, and Pennsylvania State Championships
DESCRIPTION:Sanction #: 2024-PA-01 \nEvent Director: Steve Mann \nRegistration: Enter Here \nMore Information: Click Here
URL:https://powerlifting-america.com/event/2024-powerlifting-america-new-jersey-maryland-delaware-and-pennsylvania-state-championships/
LOCATION:Jim Thorpe High School\, 1 Olympian Way\, Jim Thorpe\, PA\, 18229\, United States
CATEGORIES:PA
ORGANIZER;CN="Steve Mann":MAILTO:stevemann127@gmail.com
END:VEVENT
BEGIN:VEVENT
DTSTART;VALUE=DATE:20240517
DTEND;VALUE=DATE:20240520
DTSTAMP:20260422T233019
CREATED:20230821T030601Z
LAST-MODIFIED:20230821T030601Z
UID:10001776-1715904000-1716163199@powerlifting-america.com
SUMMARY:2024 Powerlifting America Classic Age Division National Championships
DESCRIPTION:Sanction #: 2024-NS-05 \nEvent Director: National Office \nRegistration: Enter Here \nMore Information: Click Here
URL:https://powerlifting-america.com/event/2024-powerlifting-america-classic-raw-age-division-national-championships/
LOCATION:Private: St. Edward’s University\, 3001 S Congress Ave\, Austin\, TX\, 78704\, United States
CATEGORIES:National,PA
ATTACH;FMTTYPE=image/png:https://powerlifting-america.com/wp-content/uploads/2023/08/agenats.png
ORGANIZER;CN="National Office":MAILTO:powerliftingamerica@gmail.com
END:VEVENT
BEGIN:VEVENT
DTSTART;VALUE=DATE:20240519
DTEND;VALUE=DATE:20240521
DTSTAMP:20260422T233019
CREATED:20230821T030946Z
LAST-MODIFIED:20230821T030946Z
UID:10001777-1716076800-1716249599@powerlifting-america.com
SUMMARY:2024 Powerlifting America Equipped National Championships
DESCRIPTION:Sanction #: 2024-NS-06 \nEvent Director: National Office \nRegistration: Enter Here \nMore Information: Click Here
URL:https://powerlifting-america.com/event/2024-powerlifting-america-equipped-national-championships/
LOCATION:Private: St. Edward’s University\, 3001 S Congress Ave\, Austin\, TX\, 78704\, United States
CATEGORIES:National,PA
ATTACH;FMTTYPE=image/png:https://powerlifting-america.com/wp-content/uploads/2023/08/eqnats.png
ORGANIZER;CN="National Office":MAILTO:powerliftingamerica@gmail.com
END:VEVENT
BEGIN:VEVENT
DTSTART;VALUE=DATE:20240601
DTEND;VALUE=DATE:20240602
DTSTAMP:20260422T233019
CREATED:20240321T183506Z
LAST-MODIFIED:20240321T183506Z
UID:10001852-1717200000-1717286399@powerlifting-america.com
SUMMARY:Powerlifting America 'Til Death
DESCRIPTION:Sanction #: 2024-CA-03 \nEvent Director:  Nina Chanthavongsa and William Aguilera \nRegistration: Enter Here \nMore Information: Here
URL:https://powerlifting-america.com/event/powerlifting-america-til-death/
LOCATION:The Iron Office\, 1570 E Nees Ave\, Fresno\, CA\, 93720\, United States
CATEGORIES:PA
END:VEVENT
BEGIN:VEVENT
DTSTART;VALUE=DATE:20240608
DTEND;VALUE=DATE:20240609
DTSTAMP:20260422T233019
CREATED:20240131T030837Z
LAST-MODIFIED:20240131T030837Z
UID:10001827-1717804800-1717891199@powerlifting-america.com
SUMMARY:45th Annual Powerlifting America Florida Sports Foundation Sunshine State Games Championship
DESCRIPTION:Sanction #: 2024-FL-13 \nEvent Director: Robert Keller \nRegistration: Enter Here \nMore Information: Coming Soon
URL:https://powerlifting-america.com/event/45th-annual-powerlifting-america-florida-sports-foundation-sunshine-state-games-championship/
LOCATION:Lift District Fitness\, 6868 West Atlantic Boulevard\, Margate\, FL\, 33063\, United States
CATEGORIES:PA
END:VEVENT
BEGIN:VEVENT
DTSTART;VALUE=DATE:20240615
DTEND;VALUE=DATE:20240616
DTSTAMP:20260422T233019
CREATED:20240322T180318Z
LAST-MODIFIED:20240322T180318Z
UID:10001850-1718409600-1718495999@powerlifting-america.com
SUMMARY:Powerlifting America Cascade Classic
DESCRIPTION:Sanction #: 2024-OR-01 \nEvent Director: Brady Cable \nRegistration: Register Here \nMore Information: Here
URL:https://powerlifting-america.com/event/powerlifting-america-cascade-classic/
LOCATION:Ironside Training\, 935 SE Ankeny St\, Portland\, OR\, 97214\, United States
CATEGORIES:PA
END:VEVENT
BEGIN:VEVENT
DTSTART;VALUE=DATE:20240622
DTEND;VALUE=DATE:20240624
DTSTAMP:20260422T233019
CREATED:20231103T004606Z
LAST-MODIFIED:20231103T004606Z
UID:10001798-1719014400-1719187199@powerlifting-america.com
SUMMARY:2024 Powerlifting America Illinois State Championship
DESCRIPTION:Sanction #: 2024-IL-07 \nEvent Director: Sebastian Carcione \nRegistration: Enter Here
URL:https://powerlifting-america.com/event/2024-powerlifting-america-illinois-state-championship/
LOCATION:MPG Fitness\, 3600 Thayer Ct\, Unit 500\, Aurora\, IL\, 60504\, United States
CATEGORIES:PA
END:VEVENT
BEGIN:VEVENT
DTSTART;VALUE=DATE:20240623
DTEND;VALUE=DATE:20240624
DTSTAMP:20260422T233019
CREATED:20240405T203220Z
LAST-MODIFIED:20240405T203220Z
UID:10001860-1719100800-1719187199@powerlifting-america.com
SUMMARY:Powerlifting America Barbell Brawl
DESCRIPTION:Sanction #: 2024-GA-05 \nEvent Director: Andrew Cargill & Andrew Cargill Jr. \nRegistration: Register Here \nMore Information: Here
URL:https://powerlifting-america.com/event/powerlifting-america-barbell-brawl/
LOCATION:Wills Park Recreation Center\, 11925 Wills Rd\, Alpharetta\, GA\, 30009\, United States
CATEGORIES:PA
ATTACH;FMTTYPE=image/png:https://powerlifting-america.com/wp-content/uploads/2022/02/Powerlifting-America-Logo-HOZ-1-Black-light-bckgrd@3x.png
END:VEVENT
BEGIN:VEVENT
DTSTART;VALUE=DATE:20240629
DTEND;VALUE=DATE:20240630
DTSTAMP:20260422T233019
CREATED:20240111T020004Z
LAST-MODIFIED:20240111T020004Z
UID:10001823-1719619200-1719705599@powerlifting-america.com
SUMMARY:2024 Powerlifting America Columbus Classic
DESCRIPTION:Sanction #: 2024-OH-02 \nEvent Director: John Downing \nRegistration: Enter Here \nMore Information: Coming Soon
URL:https://powerlifting-america.com/event/2024-powerlifting-america-columbus-classic/
LOCATION:Pinnacle Performance\, 640 West Rich St\, Columbus\, OH\, 43215\, United States
CATEGORIES:PA
END:VEVENT
END:VCALENDAR