BEGIN:VCALENDAR
VERSION:2.0
PRODID:-//Powerlifting America - ECPv6.15.17.1//NONSGML v1.0//EN
CALSCALE:GREGORIAN
METHOD:PUBLISH
X-WR-CALNAME:Powerlifting America
X-ORIGINAL-URL:https://powerlifting-america.com
X-WR-CALDESC:Events for Powerlifting America
REFRESH-INTERVAL;VALUE=DURATION:PT1H
X-Robots-Tag:noindex
X-PUBLISHED-TTL:PT1H
BEGIN:VTIMEZONE
TZID:America/New_York
BEGIN:DAYLIGHT
TZOFFSETFROM:-0500
TZOFFSETTO:-0400
TZNAME:EDT
DTSTART:20230312T070000
END:DAYLIGHT
BEGIN:STANDARD
TZOFFSETFROM:-0400
TZOFFSETTO:-0500
TZNAME:EST
DTSTART:20231105T060000
END:STANDARD
BEGIN:DAYLIGHT
TZOFFSETFROM:-0500
TZOFFSETTO:-0400
TZNAME:EDT
DTSTART:20240310T070000
END:DAYLIGHT
BEGIN:STANDARD
TZOFFSETFROM:-0400
TZOFFSETTO:-0500
TZNAME:EST
DTSTART:20241103T060000
END:STANDARD
BEGIN:DAYLIGHT
TZOFFSETFROM:-0500
TZOFFSETTO:-0400
TZNAME:EDT
DTSTART:20250309T070000
END:DAYLIGHT
BEGIN:STANDARD
TZOFFSETFROM:-0400
TZOFFSETTO:-0500
TZNAME:EST
DTSTART:20251102T060000
END:STANDARD
END:VTIMEZONE
BEGIN:VEVENT
DTSTART;VALUE=DATE:20241020
DTEND;VALUE=DATE:20241021
DTSTAMP:20260423T143839
CREATED:20240625T211840Z
LAST-MODIFIED:20240625T211840Z
UID:10001885-1729382400-1729468799@powerlifting-america.com
SUMMARY:Powerlifting America Rise from the Ashes
DESCRIPTION:Sanction #: 2024-MA-02 \nEvent Director:  Mark Sieminski \nRegistration: Enter Here
URL:https://powerlifting-america.com/event/powerlifting-america-rise-from-the-ashes/
LOCATION:The Phoenix\, 54 Newmarket Square\, Boston\, MA\, 2118\, United States
CATEGORIES:PA
END:VEVENT
BEGIN:VEVENT
DTSTART;VALUE=DATE:20241026
DTEND;VALUE=DATE:20241027
DTSTAMP:20260423T143839
CREATED:20240821T042436Z
LAST-MODIFIED:20240821T042436Z
UID:10001911-1729900800-1729987199@powerlifting-america.com
SUMMARY:Powerlifting America Nightmare at Kingdom
DESCRIPTION:Sanction #: 2024-TX-11 \nEvent Director: Robert Lazarin \nRegistration: Register Here \nMore Information: Coming Soon
URL:https://powerlifting-america.com/event/powerlifting-america-nightmare-at-kingdom/
LOCATION:s112627113579774542_p13_i2_w4242
CATEGORIES:PA
END:VEVENT
BEGIN:VEVENT
DTSTART;VALUE=DATE:20241026
DTEND;VALUE=DATE:20241027
DTSTAMP:20260423T143839
CREATED:20240717T232258Z
LAST-MODIFIED:20240717T232258Z
UID:10001893-1729900800-1729987199@powerlifting-america.com
SUMMARY:Powerlifting America Texas State Championship
DESCRIPTION:Sanction #: 2024-TX-10 \nEvent Director: LS Mcclain \nRegistration: Enter Here \nMore Information: Here
URL:https://powerlifting-america.com/event/powerlifting-america-texas-state-championship/
LOCATION:Eleiko Sport\, Inc\, 3910 S Industrial Dr\, Suite 100\, Austin\, TX\, 78744\, United States
CATEGORIES:PA
ATTACH;FMTTYPE=image/png:https://powerlifting-america.com/wp-content/uploads/2024/07/cropped-STATE-CHAMPS-2-2048x2014-1.png
ORGANIZER;CN="LS McClain":MAILTO:crclmeets@gmail.com
END:VEVENT
BEGIN:VEVENT
DTSTART;VALUE=DATE:20241026
DTEND;VALUE=DATE:20241027
DTSTAMP:20260423T143839
CREATED:20240525T162542Z
LAST-MODIFIED:20240525T162542Z
UID:10001872-1729900800-1729987199@powerlifting-america.com
SUMMARY:Powerlifting America Bourbon and Barbells
DESCRIPTION:Sanction #: 2024-GA-06 \nEvent Director: Andrew Cargill \nRegistration: Enter Here \nMore Information: Here
URL:https://powerlifting-america.com/event/powerlifting-america-bourbon-and-barbells/
LOCATION:Canton Icehouse\, 150 Keith Dr\, Canton\, GA\, 30114\, United States
CATEGORIES:PA
END:VEVENT
BEGIN:VEVENT
DTSTART;VALUE=DATE:20241026
DTEND;VALUE=DATE:20241027
DTSTAMP:20260423T143839
CREATED:20240524T234114Z
LAST-MODIFIED:20240524T234114Z
UID:10001869-1729900800-1729987199@powerlifting-america.com
SUMMARY:Canceled: Powerlifting America Monadnock Havoc
DESCRIPTION:Sanction #: 2024-NH-03 \nEvent Director: Lizz Smullen and Eric Wall
URL:https://powerlifting-america.com/event/powerlifting-america-monadnock-havoc/
LOCATION:Conval Regional High School\, 184 Hancock Road\, Peterborough\, NH\, 3458\, United States
CATEGORIES:PA
END:VEVENT
BEGIN:VEVENT
DTSTART;VALUE=DATE:20241026
DTEND;VALUE=DATE:20241027
DTSTAMP:20260423T143839
CREATED:20240410T181911Z
LAST-MODIFIED:20240410T181911Z
UID:10001862-1729900800-1729987199@powerlifting-america.com
SUMMARY:2024 Powerlifting America Mississippi Open
DESCRIPTION:Sanction #: 2024-MS-01 \nEvent Director: Stephen Wilson \nRegistration: Register Here
URL:https://powerlifting-america.com/event/2024-powerlifting-america-mississippi-open/
LOCATION:Anatomies\, 120 98th Place Blvd\, Hattiesburg\, MS\, 39402\, United States
CATEGORIES:PA
END:VEVENT
BEGIN:VEVENT
DTSTART;VALUE=DATE:20241026
DTEND;VALUE=DATE:20241027
DTSTAMP:20260423T143839
CREATED:20240307T183421Z
LAST-MODIFIED:20240307T183421Z
UID:10001844-1729900800-1729987199@powerlifting-america.com
SUMMARY:Powerlifting America Irongeddon
DESCRIPTION:Sanction #: 2024-MI-03 \nEvent Director: Alecia Lewis \nRegistration: Register Here \nMore Information: Coming Soon
URL:https://powerlifting-america.com/event/powerlifting-america-irongeddon/
LOCATION:Raw Strength Kalamazoo\, 300 E. Centre Ave.\, Portage\, MI\, 49002\, United States
CATEGORIES:PA
END:VEVENT
BEGIN:VEVENT
DTSTART;VALUE=DATE:20241026
DTEND;VALUE=DATE:20241027
DTSTAMP:20260423T143839
CREATED:20231107T193802Z
LAST-MODIFIED:20231107T193802Z
UID:10001809-1729900800-1729987199@powerlifting-america.com
SUMMARY:3rd Annual Powerlifting America Ft. Myers Open Championships
DESCRIPTION:Sanction #: 2024-FL-09 \nEvent Director: Robert Keller \nRegistration: Enter Here \nMore Information: Florida Powerlifting
URL:https://powerlifting-america.com/event/3rd-annual-powerlifting-america-ft-myers-open-ny-sports-club-championship/
LOCATION:Powerlifting America Iron Classic\, NV
CATEGORIES:PA
ORGANIZER;CN="Robert Keller":MAILTO:rhk@verizon.net
END:VEVENT
BEGIN:VEVENT
DTSTART;VALUE=DATE:20241026
DTEND;VALUE=DATE:20241027
DTSTAMP:20260423T143839
CREATED:20231103T005650Z
LAST-MODIFIED:20231103T005650Z
UID:10001800-1729900800-1729987199@powerlifting-america.com
SUMMARY:2024 Powerlifting America Boo Bash
DESCRIPTION:Sanction #: 2024-IL-09 \nEvent Director: Sebastian Carcione \nRegistration: Enter Here
URL:https://powerlifting-america.com/event/2024-powerlifting-america-boo-bash/
LOCATION:MPG Fitness\, 3600 Thayer Ct\, Unit 500\, Aurora\, IL\, 60504\, United States
CATEGORIES:PA
ATTACH;FMTTYPE=image/jpeg:https://powerlifting-america.com/wp-content/uploads/2023/11/cropped-Boo-Bash-2024.jpg
END:VEVENT
BEGIN:VEVENT
DTSTART;VALUE=DATE:20241027
DTEND;VALUE=DATE:20241028
DTSTAMP:20260423T143839
CREATED:20240525T171004Z
LAST-MODIFIED:20240525T171004Z
UID:10001874-1729987200-1730073599@powerlifting-america.com
SUMMARY:Powerlifting America Scary Strong 3
DESCRIPTION:Sanction #: 2024-MA-01 \nEvent Director: Peter Spence \nRegistration: Here \nMore Information: Here
URL:https://powerlifting-america.com/event/powerlifting-america-scary-strong-3/
LOCATION:Titan Barbell\, 20 Spencer St\, Stoneham\, MA\, 02180\, United States
CATEGORIES:PA
ATTACH;FMTTYPE=image/png:https://powerlifting-america.com/wp-content/uploads/2024/05/cropped-Scary-Strong-Logo-Transparent-1.png
END:VEVENT
END:VCALENDAR