BEGIN:VCALENDAR
VERSION:2.0
PRODID:-//Powerlifting America - ECPv6.15.17.1//NONSGML v1.0//EN
CALSCALE:GREGORIAN
METHOD:PUBLISH
X-WR-CALNAME:Powerlifting America
X-ORIGINAL-URL:https://powerlifting-america.com
X-WR-CALDESC:Events for Powerlifting America
REFRESH-INTERVAL;VALUE=DURATION:PT1H
X-Robots-Tag:noindex
X-PUBLISHED-TTL:PT1H
BEGIN:VTIMEZONE
TZID:America/New_York
BEGIN:DAYLIGHT
TZOFFSETFROM:-0500
TZOFFSETTO:-0400
TZNAME:EDT
DTSTART:20240310T070000
END:DAYLIGHT
BEGIN:STANDARD
TZOFFSETFROM:-0400
TZOFFSETTO:-0500
TZNAME:EST
DTSTART:20241103T060000
END:STANDARD
BEGIN:DAYLIGHT
TZOFFSETFROM:-0500
TZOFFSETTO:-0400
TZNAME:EDT
DTSTART:20250309T070000
END:DAYLIGHT
BEGIN:STANDARD
TZOFFSETFROM:-0400
TZOFFSETTO:-0500
TZNAME:EST
DTSTART:20251102T060000
END:STANDARD
BEGIN:DAYLIGHT
TZOFFSETFROM:-0500
TZOFFSETTO:-0400
TZNAME:EDT
DTSTART:20260308T070000
END:DAYLIGHT
BEGIN:STANDARD
TZOFFSETFROM:-0400
TZOFFSETTO:-0500
TZNAME:EST
DTSTART:20261101T060000
END:STANDARD
END:VTIMEZONE
BEGIN:VEVENT
DTSTART;VALUE=DATE:20251213
DTEND;VALUE=DATE:20251214
DTSTAMP:20260423T040141
CREATED:20250817T043908Z
LAST-MODIFIED:20250904T172537Z
UID:10002106-1765584000-1765670399@powerlifting-america.com
SUMMARY:Powerlifting America POD Winter Seasonal
DESCRIPTION:Sanction #: 2025-TX-18 \nEvent Director:  David Shelton \nRegistration: Enter Here
URL:https://powerlifting-america.com/event/powerlifting-america-pod-winter-seasonal/
LOCATION:Progressive Overload Dallas\, 521 W. Campbell Rd\, Ste. 300\, Richardson\, TX\, 75080\, United States
CATEGORIES:Local,PA
ATTACH;FMTTYPE=image/png:https://powerlifting-america.com/wp-content/uploads/2025/08/cropped-POD-Winter-Seasonal-PA-2025.png
ORGANIZER;CN="David Shelton":MAILTO:dxs111730@gmail.com
END:VEVENT
BEGIN:VEVENT
DTSTART;VALUE=DATE:20251214
DTEND;VALUE=DATE:20251215
DTSTAMP:20260423T040141
CREATED:20250817T045358Z
LAST-MODIFIED:20250918T045430Z
UID:10002107-1765670400-1765756799@powerlifting-america.com
SUMMARY:Powerlifting America Merry Liftmas
DESCRIPTION:Sanction #: 2025-HI-02 \nEvent Director:  Alexander Zuong \nRegistration: Enter Here \nTake note of 17 Sep 2025 Venue change
URL:https://powerlifting-america.com/event/powerlifting-america-merry-liftmas/
LOCATION:Oahu CrossFit\, 556 Reed Ln\, Honolulu\, 96813\, United States
CATEGORIES:Local,PA
ATTACH;FMTTYPE=image/png:https://powerlifting-america.com/wp-content/uploads/2025/08/cropped-Merry-Liftmas-1.png
ORGANIZER;CN="Alexander Zuong":MAILTO:coachzuong@gmail.com
END:VEVENT
BEGIN:VEVENT
DTSTART;VALUE=DATE:20251214
DTEND;VALUE=DATE:20251215
DTSTAMP:20260423T040141
CREATED:20250715T233340Z
LAST-MODIFIED:20251027T210135Z
UID:10002084-1765670400-1765756799@powerlifting-america.com
SUMMARY:Powerlifting America CRCL Classic
DESCRIPTION:Sanction #: 2025-TX-14 \nEvent Director: LS McClain \nRegistration: Enter HERE \nWebsite: Enter Here
URL:https://powerlifting-america.com/event/powerlifting-america-crcl-classic-3/
LOCATION:Primal Strength & Performance\, 14524 Brook Hollow Blvd\, San Antonio\, TX\, 78232\, United States
CATEGORIES:Local,PA
ATTACH;FMTTYPE=image/png:https://powerlifting-america.com/wp-content/uploads/2025/07/cropped-2025-TX-14.png
ORGANIZER;CN="LS McClain":MAILTO:crclmeets@gmail.com
END:VEVENT
BEGIN:VEVENT
DTSTART;VALUE=DATE:20251220
DTEND;VALUE=DATE:20251221
DTSTAMP:20260423T040141
CREATED:20250913T192840Z
LAST-MODIFIED:20250922T024158Z
UID:10002124-1766188800-1766275199@powerlifting-america.com
SUMMARY:Powerlifting America Texas High School Invitational\, sponsored by Titan Support Systems
DESCRIPTION:Sanction #: 2025-TX-19 \nEvent Director: Jack Rangel & Clarissa Rangel \nRegistration: Enter Here
URL:https://powerlifting-america.com/event/powerlifting-america-texas-high-school-invitational-sponsored-by-titan-support-systems/
LOCATION:Robstown High School\, 609 Highway 44\, Robstown\, TX\, 78380\, United States
CATEGORIES:Local,PA
ATTACH;FMTTYPE=image/png:https://powerlifting-america.com/wp-content/uploads/2025/09/cropped-2025-TX-19-.png
ORGANIZER;CN="Jack Rangel":MAILTO:jackrangel2003@gmail.com
END:VEVENT
BEGIN:VEVENT
DTSTART;VALUE=DATE:20251220
DTEND;VALUE=DATE:20251221
DTSTAMP:20260423T040141
CREATED:20250708T003633Z
LAST-MODIFIED:20251218T192615Z
UID:10002079-1766188800-1766275199@powerlifting-america.com
SUMMARY:Powerlifting America 2025 Tennessee State Championships
DESCRIPTION:Sanction #: 2025-TN-05 \nEvent Director: Chip Hulquist \nRegistration: Enter Here
URL:https://powerlifting-america.com/event/powerlifting-america-2025-tennessee-state-championships/
LOCATION:The Steel Room\, 610 Ellis Ave\, Maryville\, TN\, 37804\, United States
CATEGORIES:Local,PA
ATTACH;FMTTYPE=image/png:https://powerlifting-america.com/wp-content/uploads/2025/07/cropped-2025-TN-05.png
END:VEVENT
BEGIN:VEVENT
DTSTART;VALUE=DATE:20251220
DTEND;VALUE=DATE:20251221
DTSTAMP:20260423T040141
CREATED:20250422T233023Z
LAST-MODIFIED:20250605T170453Z
UID:10002056-1766188800-1766275199@powerlifting-america.com
SUMMARY:Powerlifting America Frosty Strength
DESCRIPTION:Sanction #: 2025-CA-07 \nEvent Director: Momen Mohamed \nRegistration: Enter Here \nMore Information: Here \nEvent Livestream: Watch Here
URL:https://powerlifting-america.com/event/powerlifting-america-frosty-strength/
LOCATION:The Iron Office\, 1570 E Nees Ave\, Fresno\, CA\, 93720\, United States
CATEGORIES:Local,PA
ATTACH;FMTTYPE=image/png:https://powerlifting-america.com/wp-content/uploads/2025/04/cropped-FS_blue@4x.png
ORGANIZER;CN="Momen Mohamed":MAILTO:momen@avancus.com
END:VEVENT
BEGIN:VEVENT
DTSTART;VALUE=DATE:20251220
DTEND;VALUE=DATE:20251221
DTSTAMP:20260423T040141
CREATED:20240828T234658Z
LAST-MODIFIED:20250701T180614Z
UID:10001931-1766188800-1766275199@powerlifting-america.com
SUMMARY:2025 Powerlifting America Power Express
DESCRIPTION:Sanction #: 2025-IL-11 \nEvent Director: Sebastian Carcione \nRegistration: Enter Here
URL:https://powerlifting-america.com/event/2025-powerlifting-america-power-express/
LOCATION:MPG Fitness\, 3600 Thayer Ct\, Unit 500\, Aurora\, IL\, 60504\, United States
CATEGORIES:PA
ATTACH;FMTTYPE=image/png:https://powerlifting-america.com/wp-content/uploads/2024/08/cropped-power-express-2025.png
END:VEVENT
END:VCALENDAR