BEGIN:VCALENDAR
VERSION:2.0
PRODID:-//Powerlifting America - ECPv6.15.17.1//NONSGML v1.0//EN
CALSCALE:GREGORIAN
METHOD:PUBLISH
X-WR-CALNAME:Powerlifting America
X-ORIGINAL-URL:https://powerlifting-america.com
X-WR-CALDESC:Events for Powerlifting America
REFRESH-INTERVAL;VALUE=DURATION:PT1H
X-Robots-Tag:noindex
X-PUBLISHED-TTL:PT1H
BEGIN:VTIMEZONE
TZID:America/New_York
BEGIN:DAYLIGHT
TZOFFSETFROM:-0500
TZOFFSETTO:-0400
TZNAME:EDT
DTSTART:20250309T070000
END:DAYLIGHT
BEGIN:STANDARD
TZOFFSETFROM:-0400
TZOFFSETTO:-0500
TZNAME:EST
DTSTART:20251102T060000
END:STANDARD
BEGIN:DAYLIGHT
TZOFFSETFROM:-0500
TZOFFSETTO:-0400
TZNAME:EDT
DTSTART:20260308T070000
END:DAYLIGHT
BEGIN:STANDARD
TZOFFSETFROM:-0400
TZOFFSETTO:-0500
TZNAME:EST
DTSTART:20261101T060000
END:STANDARD
BEGIN:DAYLIGHT
TZOFFSETFROM:-0500
TZOFFSETTO:-0400
TZNAME:EDT
DTSTART:20270314T070000
END:DAYLIGHT
BEGIN:STANDARD
TZOFFSETFROM:-0400
TZOFFSETTO:-0500
TZNAME:EST
DTSTART:20271107T060000
END:STANDARD
END:VTIMEZONE
BEGIN:VEVENT
DTSTART;VALUE=DATE:20260221
DTEND;VALUE=DATE:20260222
DTSTAMP:20260423T030531
CREATED:20251008T034839Z
LAST-MODIFIED:20251225T043319Z
UID:10002140-1771632000-1771718399@powerlifting-america.com
SUMMARY:Powerlifting America Cayco Classic 3
DESCRIPTION:Sanction #: 2026-CA-02 \nEvent Director: William Aguilera & Nina Chanthavongsa \nRegistration: Here
URL:https://powerlifting-america.com/event/powerlifting-america-cayco-classic-3/
LOCATION:The Iron Office\, 1570 E Nees Ave\, Fresno\, CA\, 93720\, United States
CATEGORIES:Local,PA
ORGANIZER;CN="William Aguilera":MAILTO:william@theironoffice.com
END:VEVENT
BEGIN:VEVENT
DTSTART;VALUE=DATE:20260221
DTEND;VALUE=DATE:20260222
DTSTAMP:20260423T030531
CREATED:20250831T234752Z
LAST-MODIFIED:20250925T044714Z
UID:10002113-1771632000-1771718399@powerlifting-america.com
SUMMARY:Powerlifting America Warrior Winter Brawl
DESCRIPTION:Sanction #: 2026-TN-01 \nEvent Director: Nina Weston \nRegistration: ENTER HERE \nWebsite: ENTER HERE
URL:https://powerlifting-america.com/event/powerlifting-america-warrior-winter-brawl-2/
LOCATION:Sparta White County YMCA\, 123 Moore Street\, Sparta\, TN\, 38583\, United States
CATEGORIES:Local,PA
ATTACH;FMTTYPE=image/png:https://powerlifting-america.com/wp-content/uploads/2025/08/cropped-2026-TN-01.png
ORGANIZER;CN="Nina Weston":MAILTO:weston4@benlomand.net
END:VEVENT
BEGIN:VEVENT
DTSTART;VALUE=DATE:20260228
DTEND;VALUE=DATE:20260301
DTSTAMP:20260423T030531
CREATED:20251121T083531Z
LAST-MODIFIED:20260223T161102Z
UID:10002156-1772236800-1772323199@powerlifting-america.com
SUMMARY:10th Annual Powerlifting America Southwest Florida Open Championships
DESCRIPTION:Sanction#: 2026-FL-07 \nEvent Director: Robert Keller \nEvent Registration Link: HERE \nEvent Website Link: HERE
URL:https://powerlifting-america.com/event/10th-annual-powerlifting-america-southwest-florida-open-championships/
LOCATION:Bay Oaks Recreation Center\, 2731 Oak St\, Fort Myers Beach\, FL\, 33931\, United States
CATEGORIES:Local,PA
ATTACH;FMTTYPE=image/png:https://powerlifting-america.com/wp-content/uploads/2025/11/2026-FL-07-logo-rev_cropped_processed_by_imagy.png
ORGANIZER;CN="Robert Keller":MAILTO:rhk@verizon.net
END:VEVENT
END:VCALENDAR