BEGIN:VCALENDAR
VERSION:2.0
PRODID:-//Powerlifting America - ECPv6.15.17.1//NONSGML v1.0//EN
CALSCALE:GREGORIAN
METHOD:PUBLISH
X-WR-CALNAME:Powerlifting America
X-ORIGINAL-URL:https://powerlifting-america.com
X-WR-CALDESC:Events for Powerlifting America
REFRESH-INTERVAL;VALUE=DURATION:PT1H
X-Robots-Tag:noindex
X-PUBLISHED-TTL:PT1H
BEGIN:VTIMEZONE
TZID:America/New_York
BEGIN:DAYLIGHT
TZOFFSETFROM:-0500
TZOFFSETTO:-0400
TZNAME:EDT
DTSTART:20250309T070000
END:DAYLIGHT
BEGIN:STANDARD
TZOFFSETFROM:-0400
TZOFFSETTO:-0500
TZNAME:EST
DTSTART:20251102T060000
END:STANDARD
BEGIN:DAYLIGHT
TZOFFSETFROM:-0500
TZOFFSETTO:-0400
TZNAME:EDT
DTSTART:20260308T070000
END:DAYLIGHT
BEGIN:STANDARD
TZOFFSETFROM:-0400
TZOFFSETTO:-0500
TZNAME:EST
DTSTART:20261101T060000
END:STANDARD
BEGIN:DAYLIGHT
TZOFFSETFROM:-0500
TZOFFSETTO:-0400
TZNAME:EDT
DTSTART:20270314T070000
END:DAYLIGHT
BEGIN:STANDARD
TZOFFSETFROM:-0400
TZOFFSETTO:-0500
TZNAME:EST
DTSTART:20271107T060000
END:STANDARD
END:VTIMEZONE
BEGIN:VEVENT
DTSTART;VALUE=DATE:20260418
DTEND;VALUE=DATE:20260419
DTSTAMP:20260424T013155
CREATED:20260126T023949Z
LAST-MODIFIED:20260310T183128Z
UID:10002185-1776470400-1776556799@powerlifting-america.com
SUMMARY:2026 Powerlifting America Big Iron Challenge
DESCRIPTION:Sanction# 2026-TN-02 \nMeet Director: Chip Hultquist \nEvent Registration link: Here
URL:https://powerlifting-america.com/event/2026-powerlifting-america-big-iron-challenge/
LOCATION:The Steel Room\, 610 Ellis Ave\, Maryville\, TN\, 37804\, United States
CATEGORIES:Local,PA
ATTACH;FMTTYPE=image/png:https://powerlifting-america.com/wp-content/uploads/2026/01/2026-TN-02_cropped_processed_by_imagy.png
END:VEVENT
BEGIN:VEVENT
DTSTART;VALUE=DATE:20260418
DTEND;VALUE=DATE:20260419
DTSTAMP:20260424T013155
CREATED:20260116T055636Z
LAST-MODIFIED:20260128T062323Z
UID:10002176-1776470400-1776556799@powerlifting-america.com
SUMMARY:NYC Uptown Open
DESCRIPTION:Sanction# 2026-NY-04 \nEvent Director: Jennifer Sauter \nEvent Registration Link: HERE
URL:https://powerlifting-america.com/event/nyc-uptown-open/
LOCATION:JDI Barbell (Harlem)\, 1767 Park Ave\, Basement Level\, New York\, NY\, 10035\, United States
CATEGORIES:Local,PA
ATTACH;FMTTYPE=image/png:https://powerlifting-america.com/wp-content/uploads/2026/01/2026-NY-04_cropped_processed_by_imagy.png
ORGANIZER;CN="Jennifer Sauter":MAILTO:jennifersauter98@gmail.com
END:VEVENT
BEGIN:VEVENT
DTSTART;VALUE=DATE:20260425
DTEND;VALUE=DATE:20260426
DTSTAMP:20260424T013155
CREATED:20251219T232442Z
LAST-MODIFIED:20260111T054522Z
UID:10002165-1777075200-1777161599@powerlifting-america.com
SUMMARY:Powerlifting America Ascension Classic
DESCRIPTION:Sanction 2026-WA-01 \nEvent Director: Wascar Carpio \nEvent Registration Link: HERE
URL:https://powerlifting-america.com/event/powerlifting-america-ascension-classic/
LOCATION:Strong Life Training\, 1407 SW 100TH ST\, Seattle\, WA\, 98146\, United States
CATEGORIES:Local,PA
ATTACH;FMTTYPE=image/png:https://powerlifting-america.com/wp-content/uploads/2025/12/2026-WA-01_cropped_processed_by_imagy.png
ORGANIZER;CN="Wascar Carpio":MAILTO:theirontemplegym@yahoo.com
END:VEVENT
BEGIN:VEVENT
DTSTART;VALUE=DATE:20260425
DTEND;VALUE=DATE:20260426
DTSTAMP:20260424T013155
CREATED:20250906T041924Z
LAST-MODIFIED:20250907T044644Z
UID:10002118-1777075200-1777161599@powerlifting-america.com
SUMMARY:Powerlifting America Spring Smash
DESCRIPTION:Sanction #: 2026-IL-03 \nEvent Director: Andrew Cargill \nRegistration: Enter Here
URL:https://powerlifting-america.com/event/powerlifting-america-spring-smash/
LOCATION:MPG Fitness\, 3600 Thayer Ct\, Unit 500\, Aurora\, IL\, 60504\, United States
CATEGORIES:Local,PA
ATTACH;FMTTYPE=image/png:https://powerlifting-america.com/wp-content/uploads/2025/09/cropped-26-spring-smash.png
ORGANIZER;CN="Andrew Cargill":MAILTO:odin@reachvalhalla.com
END:VEVENT
BEGIN:VEVENT
DTSTART;VALUE=DATE:20260426
DTEND;VALUE=DATE:20260427
DTSTAMP:20260424T013155
CREATED:20250925T061200Z
LAST-MODIFIED:20260326T194422Z
UID:10002128-1777161600-1777247999@powerlifting-america.com
SUMMARY:Powerlifting America Pennsylvania State Championships
DESCRIPTION:Sanction #: 2026-PA-01 \nEvent Director: Steven Mann  \nRegistration: ENTER HERE \nWebsite link: HERE \nLivestream link: HERE
URL:https://powerlifting-america.com/event/powerlifting-america-pennsylvania-state-championships-2/
LOCATION:Jim Thorpe High School\, 1 Olympian Way\, Jim Thorpe\, PA\, 18229\, United States
CATEGORIES:Local,PA
ATTACH;FMTTYPE=image/webp:https://powerlifting-america.com/wp-content/uploads/2025/09/2026-PA-01-logo-rev_cropped_processed_by_imagy.webp
ORGANIZER;CN="Steve Mann":MAILTO:stevemann127@gmail.com
END:VEVENT
END:VCALENDAR