BEGIN:VCALENDAR
VERSION:2.0
PRODID:-//Powerlifting America - ECPv6.15.17.1//NONSGML v1.0//EN
CALSCALE:GREGORIAN
METHOD:PUBLISH
X-WR-CALNAME:Powerlifting America
X-ORIGINAL-URL:https://powerlifting-america.com
X-WR-CALDESC:Events for Powerlifting America
REFRESH-INTERVAL;VALUE=DURATION:PT1H
X-Robots-Tag:noindex
X-PUBLISHED-TTL:PT1H
BEGIN:VTIMEZONE
TZID:America/New_York
BEGIN:DAYLIGHT
TZOFFSETFROM:-0500
TZOFFSETTO:-0400
TZNAME:EDT
DTSTART:20250309T070000
END:DAYLIGHT
BEGIN:STANDARD
TZOFFSETFROM:-0400
TZOFFSETTO:-0500
TZNAME:EST
DTSTART:20251102T060000
END:STANDARD
BEGIN:DAYLIGHT
TZOFFSETFROM:-0500
TZOFFSETTO:-0400
TZNAME:EDT
DTSTART:20260308T070000
END:DAYLIGHT
BEGIN:STANDARD
TZOFFSETFROM:-0400
TZOFFSETTO:-0500
TZNAME:EST
DTSTART:20261101T060000
END:STANDARD
BEGIN:DAYLIGHT
TZOFFSETFROM:-0500
TZOFFSETTO:-0400
TZNAME:EDT
DTSTART:20270314T070000
END:DAYLIGHT
BEGIN:STANDARD
TZOFFSETFROM:-0400
TZOFFSETTO:-0500
TZNAME:EST
DTSTART:20271107T060000
END:STANDARD
END:VTIMEZONE
BEGIN:VEVENT
DTSTART;VALUE=DATE:20260516
DTEND;VALUE=DATE:20260517
DTSTAMP:20260423T052304
CREATED:20250906T055724Z
LAST-MODIFIED:20250907T045220Z
UID:10002119-1778889600-1778975999@powerlifting-america.com
SUMMARY:Powerlifting America Hello Chicago
DESCRIPTION:Sanction #: 2026-IL-04 \nEvent Director: Andrew Cargill \nRegistration: Enter here
URL:https://powerlifting-america.com/event/powerlifting-america-hello-chicago/
LOCATION:MPG Fitness\, 3600 Thayer Ct\, Unit 500\, Aurora\, IL\, 60504\, United States
CATEGORIES:Local,PA
ATTACH;FMTTYPE=image/png:https://powerlifting-america.com/wp-content/uploads/2025/09/cropped-26-hello-Chicago.png
ORGANIZER;CN="Andrew Cargill":MAILTO:odin@reachvalhalla.com
END:VEVENT
BEGIN:VEVENT
DTSTART;VALUE=DATE:20260519
DTEND;VALUE=DATE:20260525
DTSTAMP:20260423T052304
CREATED:20250926T073940Z
LAST-MODIFIED:20251127T081220Z
UID:10002132-1779148800-1779667199@powerlifting-america.com
SUMMARY:Powerlifting America Classic and Equipped Age Division Nationals
DESCRIPTION:Sanction#: 2026-NS-06 \nEvent Director: National Office \nRegister: Here
URL:https://powerlifting-america.com/event/powerlifting-america-classic-and-equipped-age-division-nationals/
LOCATION:American Bank Center Convention Center\, 1901 N Shoreline Blvd\, Corpus Christi\, TX\, 78401\, United States
CATEGORIES:National,PA
ORGANIZER;CN="National Office":MAILTO:powerliftingamerica@gmail.com
END:VEVENT
BEGIN:VEVENT
DTSTART;VALUE=DATE:20260530
DTEND;VALUE=DATE:20260531
DTSTAMP:20260423T052304
CREATED:20250726T022745Z
LAST-MODIFIED:20260116T054418Z
UID:10002087-1780099200-1780185599@powerlifting-america.com
SUMMARY:Powerlifting America Motor City Muscle II
DESCRIPTION:Sanction #: 2026-MI-03 \nEvent Director: Alecia Lewis \nEvent Registration Link: HERE
URL:https://powerlifting-america.com/event/powerlifting-america-motor-city-muscle-ii/
LOCATION:Detroit Muscle Gym\, 736 Junction Street\, Plymouth\, MI\, 48170\, United States
CATEGORIES:Local,PA
ATTACH;FMTTYPE=image/png:https://powerlifting-america.com/wp-content/uploads/2025/07/2026-MI-03_cropped_processed_by_imagy.png
ORGANIZER;CN="Alecia Lewis":MAILTO:alecia.renee88@gmail.com
END:VEVENT
BEGIN:VEVENT
DTSTART;VALUE=DATE:20260531
DTEND;VALUE=DATE:20260601
DTSTAMP:20260423T052304
CREATED:20251224T234804Z
LAST-MODIFIED:20251226T183708Z
UID:10002168-1780185600-1780271999@powerlifting-america.com
SUMMARY:Powerlifting America 808 Rage
DESCRIPTION:Sanction# 2026-HI-01 \nEvent director: Alexander Zuong \nEvent Registration Link: HERE
URL:https://powerlifting-america.com/event/powerlifting-america-808-rage/
LOCATION:CrossFit Oahu\, 556 Reed lane\, Honolulu\, HI\, 96813\, United States
CATEGORIES:Local,PA
ATTACH;FMTTYPE=image/png:https://powerlifting-america.com/wp-content/uploads/2025/12/2026-HI-01_cropped_processed_by_imagy-1.png
ORGANIZER;CN="Alexander Zuong":MAILTO:coachzuong@gmail.com
END:VEVENT
END:VCALENDAR