BEGIN:VCALENDAR
VERSION:2.0
PRODID:-//Powerlifting America - ECPv6.15.17.1//NONSGML v1.0//EN
CALSCALE:GREGORIAN
METHOD:PUBLISH
X-WR-CALNAME:Powerlifting America
X-ORIGINAL-URL:https://powerlifting-america.com
X-WR-CALDESC:Events for Powerlifting America
REFRESH-INTERVAL;VALUE=DURATION:PT1H
X-Robots-Tag:noindex
X-PUBLISHED-TTL:PT1H
BEGIN:VTIMEZONE
TZID:America/New_York
BEGIN:DAYLIGHT
TZOFFSETFROM:-0500
TZOFFSETTO:-0400
TZNAME:EDT
DTSTART:20240310T070000
END:DAYLIGHT
BEGIN:STANDARD
TZOFFSETFROM:-0400
TZOFFSETTO:-0500
TZNAME:EST
DTSTART:20241103T060000
END:STANDARD
BEGIN:DAYLIGHT
TZOFFSETFROM:-0500
TZOFFSETTO:-0400
TZNAME:EDT
DTSTART:20250309T070000
END:DAYLIGHT
BEGIN:STANDARD
TZOFFSETFROM:-0400
TZOFFSETTO:-0500
TZNAME:EST
DTSTART:20251102T060000
END:STANDARD
BEGIN:DAYLIGHT
TZOFFSETFROM:-0500
TZOFFSETTO:-0400
TZNAME:EDT
DTSTART:20260308T070000
END:DAYLIGHT
BEGIN:STANDARD
TZOFFSETFROM:-0400
TZOFFSETTO:-0500
TZNAME:EST
DTSTART:20261101T060000
END:STANDARD
END:VTIMEZONE
BEGIN:VEVENT
DTSTART;VALUE=DATE:20250302
DTEND;VALUE=DATE:20250303
DTSTAMP:20260421T053921
CREATED:20240916T200410Z
LAST-MODIFIED:20241209T213702Z
UID:10001935-1740873600-1740959999@powerlifting-america.com
SUMMARY:Powerlifting America Nor'East Winter Challenge 2
DESCRIPTION:Sanction #: 2025-NH-01 \nEvent Director: Nicholas Guidice \nRegistration: Enter Here
URL:https://powerlifting-america.com/event/powerlifting-america-noreast-winter-challenge-2/
LOCATION:Lift Free or Die\, 56 Old Rochester Road\, Dover\, NH\, 03820\, United States
CATEGORIES:PA
ORGANIZER;CN="Nicholas Guidice":MAILTO:n.guidice@nutrifitconsulting.net
END:VEVENT
BEGIN:VEVENT
DTSTART;VALUE=DATE:20250308
DTEND;VALUE=DATE:20250309
DTSTAMP:20260421T053921
CREATED:20240525T000557Z
LAST-MODIFIED:20240525T000557Z
UID:10001871-1741392000-1741478399@powerlifting-america.com
SUMMARY:3rd Annual Powerlifting America Brick City Open
DESCRIPTION:Sanction #: 2025-FL-01 \nEvent Director: Ryan Allen \nRegistration: Enter Here \nMore Information: Coming Soon
URL:https://powerlifting-america.com/event/3rd-annual-powerlifting-america-brick-city-open/
LOCATION:Iron Legion Strength + Combat\, 217 SE 1st Ave\, Suite #100\, Ocala\, FL\, 34471\, United States
CATEGORIES:PA
ATTACH;FMTTYPE=image/png:https://powerlifting-america.com/wp-content/uploads/2024/05/cropped-file-3.png
ORGANIZER;CN="Ryan Allen":MAILTO:ryanaallen2000@gmail.com
END:VEVENT
BEGIN:VEVENT
DTSTART;VALUE=DATE:20250308
DTEND;VALUE=DATE:20250309
DTSTAMP:20260421T053921
CREATED:20241120T012511Z
LAST-MODIFIED:20250210T233348Z
UID:10001987-1741392000-1741478399@powerlifting-america.com
SUMMARY:2025 Powerlifting America Big Iron Challenge
DESCRIPTION:Sanction #: 2025-TN-02 \nEvent Director: Chip Hulquist \nRegistration: Enter Here
URL:https://powerlifting-america.com/event/2025-powerlifting-america-big-iron-challenge/
LOCATION:Get Fit Maryville\, 911 E Broadway Ave\, Maryville\, TN\, 37804\, United States
CATEGORIES:Local,PA
ATTACH;FMTTYPE=image/png:https://powerlifting-america.com/wp-content/uploads/2024/11/cropped-Powerlifting-logo.png
END:VEVENT
BEGIN:VEVENT
DTSTART;VALUE=DATE:20250308
DTEND;VALUE=DATE:20250310
DTSTAMP:20260421T053921
CREATED:20240920T205705Z
LAST-MODIFIED:20240920T205705Z
UID:10001946-1741392000-1741564799@powerlifting-america.com
SUMMARY:2025 Powerlifting America Arizona State Championship
DESCRIPTION:Sanction #: 2025-AZ-02 \nEvent Director: Miryam Elm and Rodney Elm \nRegistration: Enter Here \nMore Information: Here
URL:https://powerlifting-america.com/event/2025-powerlifting-america-arizona-state-championship/
LOCATION:Canyon Activity Center at Grand Canyon University\, 5346 N 29th Ave\, Building 58\, Phoenix\, AZ\, 85017\, United States
CATEGORIES:PA
ATTACH;FMTTYPE=image/png:https://powerlifting-america.com/wp-content/uploads/2024/09/cropped-Trans-back-25-AZ-STATE-CHAMPS.png
ORGANIZER;CN="Miryam Gutier-Elm":MAILTO:wadestrengthsystems@gmail.com
END:VEVENT
BEGIN:VEVENT
DTSTART;VALUE=DATE:20250315
DTEND;VALUE=DATE:20250316
DTSTAMP:20260421T053921
CREATED:20240722T182801Z
LAST-MODIFIED:20241218T201646Z
UID:10001894-1741996800-1742083199@powerlifting-america.com
SUMMARY:Powerlifting America Pelican State Open
DESCRIPTION:Sanction #: 2025-LA-03 \nEvent Director: Travis Werner \nRegistration: Enter Here
URL:https://powerlifting-america.com/event/powerlifting-america-pelican-state-open/
LOCATION:Cajun Prep Gym\, 1553 Verot School Road\, Lafayette\, LA\, 70508\, United States
CATEGORIES:PA
ORGANIZER;CN="Travis Werner":MAILTO:traviswerner123@gmail.com
END:VEVENT
BEGIN:VEVENT
DTSTART;VALUE=DATE:20250315
DTEND;VALUE=DATE:20250316
DTSTAMP:20260421T053921
CREATED:20240828T233000Z
LAST-MODIFIED:20241209T215140Z
UID:10001923-1741996800-1742083199@powerlifting-america.com
SUMMARY:2025 Powerlifting America MPG Madness
DESCRIPTION:Sanction #: 2025-IL-03 \nEvent Director: Sebastian Carcione \nRegistration: Enter Here
URL:https://powerlifting-america.com/event/2025-powerlifting-america-mpg-madness/
LOCATION:MPG Fitness\, 3600 Thayer Ct\, Unit 500\, Aurora\, IL\, 60504\, United States
CATEGORIES:PA
ATTACH;FMTTYPE=image/png:https://powerlifting-america.com/wp-content/uploads/2024/08/cropped-MPG-Madness.png
ORGANIZER;CN="Sebastian Carcione":MAILTO:Info@mpgfitness.com
END:VEVENT
BEGIN:VEVENT
DTSTART;VALUE=DATE:20250315
DTEND;VALUE=DATE:20250316
DTSTAMP:20260421T053921
CREATED:20241018T200636Z
LAST-MODIFIED:20241222T185826Z
UID:10001962-1741996800-1742083199@powerlifting-america.com
SUMMARY:1st Annual Powerlifting America Garden State (NJ) Open Championships
DESCRIPTION:Sanction #: 2025-NJ-01 \nEvent Director: Robert Keller \nRegistration: Enter Here
URL:https://powerlifting-america.com/event/1st-annual-powerlifting-america-garden-state-nj-open-championships/
LOCATION:The War Room\, 9 Whippany Rd\, Building A\, Unit 9\, Whippany\, NJ\, 07981\, United States
CATEGORIES:PA
ORGANIZER;CN="Robert Keller":MAILTO:rhk@verizon.net
END:VEVENT
BEGIN:VEVENT
DTSTART;VALUE=DATE:20250316
DTEND;VALUE=DATE:20250317
DTSTAMP:20260421T053921
CREATED:20250311T233248Z
LAST-MODIFIED:20250311T233248Z
UID:10002039-1742083200-1742169599@powerlifting-america.com
SUMMARY:2025 Powerlifting America App State Qualifier
DESCRIPTION:Sanction #: 2025-TN-04 \nEvent Director: Chris Vaughn \nRegistration: Coming Soon \nMore Information: Coming Soon
URL:https://powerlifting-america.com/event/2025-powerlifting-america-app-state-qualifier/
LOCATION:The Hall Strength & Conditioning\, 107 Village Square Ln\, Mountain City\, TN\, 37683\, United States
CATEGORIES:Local,PA
ORGANIZER;CN="Megan Powell":MAILTO:meg@topset.media
END:VEVENT
BEGIN:VEVENT
DTSTART;VALUE=DATE:20250322
DTEND;VALUE=DATE:20250323
DTSTAMP:20260421T053921
CREATED:20241018T202052Z
LAST-MODIFIED:20241222T191216Z
UID:10001965-1742601600-1742687999@powerlifting-america.com
SUMMARY:2025 Powerlifting America StrongHer Strength Showdown (Women Only Meet)
DESCRIPTION:Sanction #: 2025-FL-05 \nEvent Director: Robert Keller \nRegistration: Enter Here
URL:https://powerlifting-america.com/event/2025-powerlifting-america-strongher-strength-showdown-women-only-meet/
LOCATION:TFX Training Center\, 1711 35TH Street Ste 102\, Orlando\, FL\, 32839\, United States
CATEGORIES:PA
ATTACH;FMTTYPE=image/png:https://powerlifting-america.com/wp-content/uploads/2024/10/cropped-strongher-logo-2025.png
ORGANIZER;CN="Robert Keller":MAILTO:rhk@verizon.net
END:VEVENT
BEGIN:VEVENT
DTSTART;VALUE=DATE:20250322
DTEND;VALUE=DATE:20250323
DTSTAMP:20260421T053921
CREATED:20241223T205700Z
LAST-MODIFIED:20250107T204351Z
UID:10002004-1742601600-1742687999@powerlifting-america.com
SUMMARY:Powerlifting America Brooklyn Battle Royal
DESCRIPTION:Sanction #: 2025-NY-07 \nEvent Director: Stephanie Tracy & Melissa Forbis \nRegistration: Enter Here
URL:https://powerlifting-america.com/event/powerlifting-america-brooklyn-battle-royal/
LOCATION:Elite Barbell NYC\, 204 25th Street\, Brooklyn\, NY\, 11232\, United States
CATEGORIES:Local,PA
ATTACH;FMTTYPE=image/png:https://powerlifting-america.com/wp-content/uploads/2024/12/cropped-BBRFINAL2.png
ORGANIZER;CN="Stephanie Tracy":MAILTO:stephtracy@gmail.com
END:VEVENT
BEGIN:VEVENT
DTSTART;VALUE=DATE:20250323
DTEND;VALUE=DATE:20250324
DTSTAMP:20260421T053921
CREATED:20241018T201806Z
LAST-MODIFIED:20241222T190155Z
UID:10001964-1742688000-1742774399@powerlifting-america.com
SUMMARY:5th Annual Powerlifting America TFX Training Facility Open Championships
DESCRIPTION:Sanction #: 2025-FL-04 \nEvent Director: Robert Keller \nRegistration: Enter Here
URL:https://powerlifting-america.com/event/5th-annual-powerlifting-america-tfx-training-facility-open-championships/
LOCATION:TFX Training Center\, 1711 35TH Street Ste 102\, Orlando\, FL\, 32839\, United States
CATEGORIES:PA
ORGANIZER;CN="Robert Keller":MAILTO:rhk@verizon.net
END:VEVENT
BEGIN:VEVENT
DTSTART;VALUE=DATE:20250329
DTEND;VALUE=DATE:20250330
DTSTAMP:20260421T053921
CREATED:20240722T184614Z
LAST-MODIFIED:20241218T201908Z
UID:10001899-1743206400-1743292799@powerlifting-america.com
SUMMARY:Powerlifting America Gauntlet of Power
DESCRIPTION:Sanction #: 2025-GA-01 \nEvent Director: Andrew Cargill \nRegistration: Enter Here \nMore Information: Here
URL:https://powerlifting-america.com/event/powerlifting-america-gauntlet-of-power/
LOCATION:Dalton Convention Center\, 2211 Tony Ingle Parkway\, Dalton\, GA\, 30720\, United States
CATEGORIES:PA
ATTACH;FMTTYPE=image/png:https://powerlifting-america.com/wp-content/uploads/2024/07/cropped-PA-GOP-GA-LOGO-trasnparent-logo.png
ORGANIZER;CN="Drew Cargill":MAILTO:berserker@reachvalhalla.com
END:VEVENT
BEGIN:VEVENT
DTSTART;VALUE=DATE:20250329
DTEND;VALUE=DATE:20250330
DTSTAMP:20260421T053921
CREATED:20250107T223403Z
LAST-MODIFIED:20250117T193032Z
UID:10002012-1743206400-1743292799@powerlifting-america.com
SUMMARY:Powerlifting America Duke City Showdown III
DESCRIPTION:Sanction #: 2025-NM-03 \nEvent Director: Michael Zawilinski and Michelle Mazulis \nRegistration: Enter Here
URL:https://powerlifting-america.com/event/powerlifting-america-duke-city-showdown-iii/
LOCATION:Transcend\, 214 Menaul Blvd NE\, Albuquerque\, NM\, 87107\, United States
CATEGORIES:Local,PA
ORGANIZER;CN="Michael Zawilinski":MAILTO:mike@powerlifting-america.com
END:VEVENT
END:VCALENDAR