BEGIN:VCALENDAR
VERSION:2.0
PRODID:-//Powerlifting America - ECPv6.15.17.1//NONSGML v1.0//EN
CALSCALE:GREGORIAN
METHOD:PUBLISH
X-ORIGINAL-URL:https://powerlifting-america.com
X-WR-CALDESC:Events for Powerlifting America
REFRESH-INTERVAL;VALUE=DURATION:PT1H
X-Robots-Tag:noindex
X-PUBLISHED-TTL:PT1H
BEGIN:VTIMEZONE
TZID:America/New_York
BEGIN:DAYLIGHT
TZOFFSETFROM:-0500
TZOFFSETTO:-0400
TZNAME:EDT
DTSTART:20210314T070000
END:DAYLIGHT
BEGIN:STANDARD
TZOFFSETFROM:-0400
TZOFFSETTO:-0500
TZNAME:EST
DTSTART:20211107T060000
END:STANDARD
BEGIN:DAYLIGHT
TZOFFSETFROM:-0500
TZOFFSETTO:-0400
TZNAME:EDT
DTSTART:20220313T070000
END:DAYLIGHT
BEGIN:STANDARD
TZOFFSETFROM:-0400
TZOFFSETTO:-0500
TZNAME:EST
DTSTART:20221106T060000
END:STANDARD
BEGIN:DAYLIGHT
TZOFFSETFROM:-0500
TZOFFSETTO:-0400
TZNAME:EDT
DTSTART:20230312T070000
END:DAYLIGHT
BEGIN:STANDARD
TZOFFSETFROM:-0400
TZOFFSETTO:-0500
TZNAME:EST
DTSTART:20231105T060000
END:STANDARD
END:VTIMEZONE
BEGIN:VEVENT
DTSTART;VALUE=DATE:20220702
DTEND;VALUE=DATE:20220703
DTSTAMP:20260424T184445
CREATED:20211221T022017Z
LAST-MODIFIED:20211221T022017Z
UID:10001626-1656720000-1656806399@powerlifting-america.com
SUMMARY:Powerlifting America 10th Annual Central Florida Open Championships
DESCRIPTION:Sanction #: 2022-FL-06 \nEvent Director: Robert Keller \nRegistration: Enter Here \nMore Information: Florida Powerlifting
URL:https://powerlifting-america.com/event/powerlifting-america-10th-annual-central-florida-open-championships-2/
LOCATION:CrossFit Afterburn\, 2629 Waverly Barn Rd\, Davenport\, FL\, 33897\, United States
CATEGORIES:PA
ATTACH;FMTTYPE=image/png:https://powerlifting-america.com/wp-content/uploads/2022/02/Powerlifting-America-Logo-HOZ-1-Black-light-bckgrd@3x.png
ORGANIZER;CN="Robert Keller":MAILTO:rhk@verizon.net
END:VEVENT
BEGIN:VEVENT
DTSTART;VALUE=DATE:20220730
DTEND;VALUE=DATE:20220731
DTSTAMP:20260424T184445
CREATED:20220504T033036Z
LAST-MODIFIED:20220504T033036Z
UID:10001663-1659139200-1659225599@powerlifting-america.com
SUMMARY:Powerlifting America TFX Challenge Cup
DESCRIPTION:Sanction #: 2022-FL-19 \nEvent Director: Robert Keller \nRegistration: Enter Here \nMore Information: Florida Powerlifting
URL:https://powerlifting-america.com/event/powerlifting-america-tfx-challenge-cup/
LOCATION:TFX Training Center\, 1711 35TH Street Ste 102\, Orlando\, FL\, 32839\, United States
CATEGORIES:PA
ATTACH;FMTTYPE=image/jpeg:https://powerlifting-america.com/wp-content/uploads/2021/11/TFX2.jpg
ORGANIZER;CN="Robert Keller":MAILTO:rhk@verizon.net
END:VEVENT
END:VCALENDAR