BEGIN:VCALENDAR
VERSION:2.0
PRODID:-//Powerlifting America - ECPv6.15.17.1//NONSGML v1.0//EN
CALSCALE:GREGORIAN
METHOD:PUBLISH
X-ORIGINAL-URL:https://powerlifting-america.com
X-WR-CALDESC:Events for Powerlifting America
REFRESH-INTERVAL;VALUE=DURATION:PT1H
X-Robots-Tag:noindex
X-PUBLISHED-TTL:PT1H
BEGIN:VTIMEZONE
TZID:America/New_York
BEGIN:DAYLIGHT
TZOFFSETFROM:-0500
TZOFFSETTO:-0400
TZNAME:EDT
DTSTART:20220313T070000
END:DAYLIGHT
BEGIN:STANDARD
TZOFFSETFROM:-0400
TZOFFSETTO:-0500
TZNAME:EST
DTSTART:20221106T060000
END:STANDARD
BEGIN:DAYLIGHT
TZOFFSETFROM:-0500
TZOFFSETTO:-0400
TZNAME:EDT
DTSTART:20230312T070000
END:DAYLIGHT
BEGIN:STANDARD
TZOFFSETFROM:-0400
TZOFFSETTO:-0500
TZNAME:EST
DTSTART:20231105T060000
END:STANDARD
BEGIN:DAYLIGHT
TZOFFSETFROM:-0500
TZOFFSETTO:-0400
TZNAME:EDT
DTSTART:20240310T070000
END:DAYLIGHT
BEGIN:STANDARD
TZOFFSETFROM:-0400
TZOFFSETTO:-0500
TZNAME:EST
DTSTART:20241103T060000
END:STANDARD
END:VTIMEZONE
BEGIN:VEVENT
DTSTART;VALUE=DATE:20230401
DTEND;VALUE=DATE:20230402
DTSTAMP:20260423T182847
CREATED:20221222T035653Z
LAST-MODIFIED:20221222T035653Z
UID:10001702-1680307200-1680393599@powerlifting-america.com
SUMMARY:8th Annual Orlando “The City Beautiful” Open Championships
DESCRIPTION:Sanction #: 2023-FL-09 \nEvent Director: Robert Keller \nRegistration: Enter Here \nMore Information: Florida Powerlifting
URL:https://powerlifting-america.com/event/8th-annual-orlando-the-city-beautiful-open-championships/
LOCATION:The Gym Down Town\, 133 East Robinson Street\, Orlando\, FL\, 32801\, United States
CATEGORIES:PA
ATTACH;FMTTYPE=image/png:https://powerlifting-america.com/wp-content/uploads/2022/02/Powerlifting-America-Logo-HOZ-1-Black-light-bckgrd@3x.png
ORGANIZER;CN="Robert Keller":MAILTO:rhk@verizon.net
END:VEVENT
BEGIN:VEVENT
DTSTART;VALUE=DATE:20230415
DTEND;VALUE=DATE:20230417
DTSTAMP:20260423T182847
CREATED:20221213T215613Z
LAST-MODIFIED:20221213T215613Z
UID:10001700-1681516800-1681689599@powerlifting-america.com
SUMMARY:Powerlifting America University National Championship
DESCRIPTION:Sanction #: 2023-NS-06 \nEvent Director: National Office \nRegistration: More Information and Registration
URL:https://powerlifting-america.com/event/powerlifting-america-university-national-championship/
LOCATION:Polk State College\, 999 Avenue H\, N.E.\, Winter Haven\, FL\, 33881\, United States
CATEGORIES:National,PA
ATTACH;FMTTYPE=image/png:https://powerlifting-america.com/wp-content/uploads/2022/12/2022-University-Nationals.png
ORGANIZER;CN="National Office":MAILTO:powerliftingamerica@gmail.com
END:VEVENT
BEGIN:VEVENT
DTSTART;VALUE=DATE:20230429
DTEND;VALUE=DATE:20230430
DTSTAMP:20260423T182847
CREATED:20220210T195241Z
LAST-MODIFIED:20220210T195241Z
UID:10001657-1682726400-1682812799@powerlifting-america.com
SUMMARY:7th Annual Powerlifting America Southwest Florida Open Championships
DESCRIPTION:Sanction #: 2023-FL-01 \nEvent Director: Robert Keller \nRegistration: Enter Here \nMore Information: Florida Powerlifting
URL:https://powerlifting-america.com/event/7th-annual-powerlifting-america-southwest-florida-open-championships/
LOCATION:Double Eagle Event Center\, 350 Homestead Rd S\, Lehigh Acres\, FL\, 33936\, United States
CATEGORIES:PA
ATTACH;FMTTYPE=image/png:https://powerlifting-america.com/wp-content/uploads/2022/02/Powerlifting-America-Logo-HOZ-1-Black-light-bckgrd@3x.png
ORGANIZER;CN="Robert Keller":MAILTO:rhk@verizon.net
END:VEVENT
END:VCALENDAR