BEGIN:VCALENDAR
VERSION:2.0
PRODID:-//Powerlifting America - ECPv6.15.17.1//NONSGML v1.0//EN
CALSCALE:GREGORIAN
METHOD:PUBLISH
X-WR-CALNAME:Powerlifting America
X-ORIGINAL-URL:https://powerlifting-america.com
X-WR-CALDESC:Events for Powerlifting America
REFRESH-INTERVAL;VALUE=DURATION:PT1H
X-Robots-Tag:noindex
X-PUBLISHED-TTL:PT1H
BEGIN:VTIMEZONE
TZID:America/New_York
BEGIN:DAYLIGHT
TZOFFSETFROM:-0500
TZOFFSETTO:-0400
TZNAME:EDT
DTSTART:20230312T070000
END:DAYLIGHT
BEGIN:STANDARD
TZOFFSETFROM:-0400
TZOFFSETTO:-0500
TZNAME:EST
DTSTART:20231105T060000
END:STANDARD
BEGIN:DAYLIGHT
TZOFFSETFROM:-0500
TZOFFSETTO:-0400
TZNAME:EDT
DTSTART:20240310T070000
END:DAYLIGHT
BEGIN:STANDARD
TZOFFSETFROM:-0400
TZOFFSETTO:-0500
TZNAME:EST
DTSTART:20241103T060000
END:STANDARD
BEGIN:DAYLIGHT
TZOFFSETFROM:-0500
TZOFFSETTO:-0400
TZNAME:EDT
DTSTART:20250309T070000
END:DAYLIGHT
BEGIN:STANDARD
TZOFFSETFROM:-0400
TZOFFSETTO:-0500
TZNAME:EST
DTSTART:20251102T060000
END:STANDARD
END:VTIMEZONE
BEGIN:VEVENT
DTSTART;VALUE=DATE:20240309
DTEND;VALUE=DATE:20240310
DTSTAMP:20260423T034429
CREATED:20231211T214828Z
LAST-MODIFIED:20231211T214828Z
UID:10001817-1709942400-1710028799@powerlifting-america.com
SUMMARY:2nd Annual Powerlifting America Brick City Open
DESCRIPTION:Sanction #: 2024-FL-11 \nEvent Directors: Ryan Allen \nRegistration: Enter Here \n 
URL:https://powerlifting-america.com/event/2nd-annual-powerlifting-america-brick-city-open/
LOCATION:FL
CATEGORIES:PA
ORGANIZER;CN="Ryan Allen":MAILTO:ryanaallen2000@gmail.com
END:VEVENT
BEGIN:VEVENT
DTSTART;VALUE=DATE:20240323
DTEND;VALUE=DATE:20240324
DTSTAMP:20260423T034429
CREATED:20231107T192802Z
LAST-MODIFIED:20231107T192802Z
UID:10001804-1711152000-1711238399@powerlifting-america.com
SUMMARY:4th Annual Powerlifting America TFX Training Facility Open Championships
DESCRIPTION:Sanction #: 2024-FL-04 \nEvent Director: Robert Keller \nRegistration: Enter Here \nMore Information: Florida Powerlifting
URL:https://powerlifting-america.com/event/4th-annual-powerlifting-america-tfx-training-facility-open-championships/
LOCATION:TFX Training Center\, 1711 35TH Street Ste 102\, Orlando\, FL\, 32839\, United States
CATEGORIES:PA
ATTACH;FMTTYPE=image/png:https://powerlifting-america.com/wp-content/uploads/2022/02/Powerlifting-America-Logo-HOZ-1-Black-light-bckgrd@3x.png
ORGANIZER;CN="Robert Keller":MAILTO:rhk@verizon.net
END:VEVENT
END:VCALENDAR