BEGIN:VCALENDAR
VERSION:2.0
PRODID:-//Powerlifting America - ECPv6.15.17.1//NONSGML v1.0//EN
CALSCALE:GREGORIAN
METHOD:PUBLISH
X-ORIGINAL-URL:https://powerlifting-america.com
X-WR-CALDESC:Events for Powerlifting America
REFRESH-INTERVAL;VALUE=DURATION:PT1H
X-Robots-Tag:noindex
X-PUBLISHED-TTL:PT1H
BEGIN:VTIMEZONE
TZID:America/New_York
BEGIN:DAYLIGHT
TZOFFSETFROM:-0500
TZOFFSETTO:-0400
TZNAME:EDT
DTSTART:20230312T070000
END:DAYLIGHT
BEGIN:STANDARD
TZOFFSETFROM:-0400
TZOFFSETTO:-0500
TZNAME:EST
DTSTART:20231105T060000
END:STANDARD
BEGIN:DAYLIGHT
TZOFFSETFROM:-0500
TZOFFSETTO:-0400
TZNAME:EDT
DTSTART:20240310T070000
END:DAYLIGHT
BEGIN:STANDARD
TZOFFSETFROM:-0400
TZOFFSETTO:-0500
TZNAME:EST
DTSTART:20241103T060000
END:STANDARD
BEGIN:DAYLIGHT
TZOFFSETFROM:-0500
TZOFFSETTO:-0400
TZNAME:EDT
DTSTART:20250309T070000
END:DAYLIGHT
BEGIN:STANDARD
TZOFFSETFROM:-0400
TZOFFSETTO:-0500
TZNAME:EST
DTSTART:20251102T060000
END:STANDARD
END:VTIMEZONE
BEGIN:VEVENT
DTSTART;VALUE=DATE:20240414
DTEND;VALUE=DATE:20240415
DTSTAMP:20260421T070337
CREATED:20240408T120051Z
LAST-MODIFIED:20240408T120051Z
UID:10001857-1713052800-1713139199@powerlifting-america.com
SUMMARY:Powerlifting America Cajun Prep Closed Qualifier
DESCRIPTION:Sanction #: 2024-LA-04 \nEvent Director: Travis Werner \nRegistration: Coming Soon \nMore Information: Coming Soon
URL:https://powerlifting-america.com/event/powerlifting-america-cajun-prep-closed-qualifier/
LOCATION:Cajun Prep Gym\, 1553 Verot School Road\, Lafayette\, LA\, 70508\, United States
CATEGORIES:PA
ATTACH;FMTTYPE=image/png:https://powerlifting-america.com/wp-content/uploads/2022/02/Powerlifting-America-Logo-HOZ-1-Black-light-bckgrd@3x.png
END:VEVENT
BEGIN:VEVENT
DTSTART;VALUE=DATE:20240418
DTEND;VALUE=DATE:20240419
DTSTAMP:20260421T070337
CREATED:20240421T043402Z
LAST-MODIFIED:20240421T043402Z
UID:10001863-1713398400-1713484799@powerlifting-america.com
SUMMARY:2024 Powerlifting America First Inaugural Strength Through Cinema Classic Open Closed Invitational Qualifier - Presented by Palmetto State Barbell in Association with Mellon Powerlifting LLC
DESCRIPTION:Sanction #: 2024-LA-07 \nEvent Director: Luke Mellon and Marshall Powell
URL:https://powerlifting-america.com/event/2024-powerlifting-america-first-inaugural-strength-through-cinema-classic-open-closed-invitational-qualifier-presented-by-palmetto-state-barbell-in-association-with-mellon-powerlifting-llc/
LOCATION:Hilton New Orleans Airport\, 901 Airline Drive\, Kenner\, LA\, 70062\, United States
CATEGORIES:PA
ATTACH;FMTTYPE=image/png:https://powerlifting-america.com/wp-content/uploads/2022/02/Powerlifting-America-Logo-HOZ-1-Black-light-bckgrd@3x.png
ORGANIZER;CN="Luke Mellon":MAILTO:luke@powerlifting-america.com
END:VEVENT
BEGIN:VEVENT
DTSTART;VALUE=DATE:20240419
DTEND;VALUE=DATE:20240422
DTSTAMP:20260421T070337
CREATED:20230707T201439Z
LAST-MODIFIED:20230707T201439Z
UID:10001753-1713484800-1713743999@powerlifting-america.com
SUMMARY:2024 Powerlifting America High School Nationals
DESCRIPTION:Sanction #: 2024-NS-02 \nEvent Director: National Office \nRegistration: More Information and Registration
URL:https://powerlifting-america.com/event/2024-powerlifting-america-high-school-nationals/
LOCATION:Hilton New Orleans Airport\, 901 Airline Drive\, Kenner\, LA\, 70062\, United States
CATEGORIES:National,PA
ATTACH;FMTTYPE=image/png:https://powerlifting-america.com/wp-content/uploads/2023/07/hs.png
ORGANIZER;CN="National Office":MAILTO:powerliftingamerica@gmail.com
END:VEVENT
END:VCALENDAR