BEGIN:VCALENDAR
VERSION:2.0
PRODID:-//Powerlifting America - ECPv6.15.17.1//NONSGML v1.0//EN
CALSCALE:GREGORIAN
METHOD:PUBLISH
X-ORIGINAL-URL:https://powerlifting-america.com
X-WR-CALDESC:Events for Powerlifting America
REFRESH-INTERVAL;VALUE=DURATION:PT1H
X-Robots-Tag:noindex
X-PUBLISHED-TTL:PT1H
BEGIN:VTIMEZONE
TZID:America/New_York
BEGIN:DAYLIGHT
TZOFFSETFROM:-0500
TZOFFSETTO:-0400
TZNAME:EDT
DTSTART:20210314T070000
END:DAYLIGHT
BEGIN:STANDARD
TZOFFSETFROM:-0400
TZOFFSETTO:-0500
TZNAME:EST
DTSTART:20211107T060000
END:STANDARD
BEGIN:DAYLIGHT
TZOFFSETFROM:-0500
TZOFFSETTO:-0400
TZNAME:EDT
DTSTART:20220313T070000
END:DAYLIGHT
BEGIN:STANDARD
TZOFFSETFROM:-0400
TZOFFSETTO:-0500
TZNAME:EST
DTSTART:20221106T060000
END:STANDARD
BEGIN:DAYLIGHT
TZOFFSETFROM:-0500
TZOFFSETTO:-0400
TZNAME:EDT
DTSTART:20230312T070000
END:DAYLIGHT
BEGIN:STANDARD
TZOFFSETFROM:-0400
TZOFFSETTO:-0500
TZNAME:EST
DTSTART:20231105T060000
END:STANDARD
END:VTIMEZONE
BEGIN:VEVENT
DTSTART;VALUE=DATE:20221203
DTEND;VALUE=DATE:20221204
DTSTAMP:20260422T210224
CREATED:20220804T185911Z
LAST-MODIFIED:20220804T185911Z
UID:10001675-1670025600-1670111999@powerlifting-america.com
SUMMARY:Powerlifting America PRIME Power Summit
DESCRIPTION:Sanction #: 2022-TX-03 \nEvent Director: LS McClain \nRegistration: Enter Here
URL:https://powerlifting-america.com/event/powerlifting-america-prime-power-summit/
LOCATION:Prime 361 Sports Complex\, 3239 County Road 48\, Robstown\, TX\, 78380\, United States
CATEGORIES:PA
ATTACH;FMTTYPE=image/png:https://powerlifting-america.com/wp-content/uploads/2022/02/Powerlifting-America-Logo-HOZ-1-Black-light-bckgrd@3x.png
ORGANIZER;CN="LS McClain":MAILTO:crclmeets@gmail.com
END:VEVENT
BEGIN:VEVENT
DTSTART;VALUE=DATE:20221211
DTEND;VALUE=DATE:20221212
DTSTAMP:20260422T210224
CREATED:20220802T203618Z
LAST-MODIFIED:20220802T203618Z
UID:10001672-1670716800-1670803199@powerlifting-america.com
SUMMARY:Powerlifting America CRCL Classic
DESCRIPTION:Sanction #: 2022-TX-02 \nEvent Director: LS McClain \nRegistration: Enter Here \n 
URL:https://powerlifting-america.com/event/powerlifting-america-crcl-classic/
LOCATION:Primal Strength & Performance\, 14524 Brook Hollow Blvd\, San Antonio\, TX\, 78232\, United States
CATEGORIES:PA
ATTACH;FMTTYPE=image/png:https://powerlifting-america.com/wp-content/uploads/2022/02/Powerlifting-America-Logo-HOZ-1-Black-light-bckgrd@3x.png
ORGANIZER;CN="LS McClain":MAILTO:crclmeets@gmail.com
END:VEVENT
END:VCALENDAR