BEGIN:VCALENDAR
VERSION:2.0
PRODID:-//Powerlifting America - ECPv6.15.17.1//NONSGML v1.0//EN
CALSCALE:GREGORIAN
METHOD:PUBLISH
X-ORIGINAL-URL:https://powerlifting-america.com
X-WR-CALDESC:Events for Powerlifting America
REFRESH-INTERVAL;VALUE=DURATION:PT1H
X-Robots-Tag:noindex
X-PUBLISHED-TTL:PT1H
BEGIN:VTIMEZONE
TZID:America/New_York
BEGIN:DAYLIGHT
TZOFFSETFROM:-0500
TZOFFSETTO:-0400
TZNAME:EDT
DTSTART:20230312T070000
END:DAYLIGHT
BEGIN:STANDARD
TZOFFSETFROM:-0400
TZOFFSETTO:-0500
TZNAME:EST
DTSTART:20231105T060000
END:STANDARD
BEGIN:DAYLIGHT
TZOFFSETFROM:-0500
TZOFFSETTO:-0400
TZNAME:EDT
DTSTART:20240310T070000
END:DAYLIGHT
BEGIN:STANDARD
TZOFFSETFROM:-0400
TZOFFSETTO:-0500
TZNAME:EST
DTSTART:20241103T060000
END:STANDARD
BEGIN:DAYLIGHT
TZOFFSETFROM:-0500
TZOFFSETTO:-0400
TZNAME:EDT
DTSTART:20250309T070000
END:DAYLIGHT
BEGIN:STANDARD
TZOFFSETFROM:-0400
TZOFFSETTO:-0500
TZNAME:EST
DTSTART:20251102T060000
END:STANDARD
END:VTIMEZONE
BEGIN:VEVENT
DTSTART;VALUE=DATE:20240803
DTEND;VALUE=DATE:20240804
DTSTAMP:20260421T143437
CREATED:20240118T022028Z
LAST-MODIFIED:20240118T022028Z
UID:10001824-1722643200-1722729599@powerlifting-america.com
SUMMARY:2024 Powerlifting America Gameday Backyard Lifting
DESCRIPTION:Sanction #: 2024-TX-05 \nEvent Director: Timothy Thebodeau \nRegistration: Coming Soon \nMore Information: Click Here
URL:https://powerlifting-america.com/event/2024-powerlifting-america-gameday-backyard-lifting/
LOCATION:Eleiko Sport\, Inc\, 3910 S Industrial Dr\, Suite 100\, Austin\, TX\, 78744\, United States
CATEGORIES:PA
ATTACH;FMTTYPE=image/png:https://powerlifting-america.com/wp-content/uploads/2022/02/Powerlifting-America-Logo-HOZ-1-Black-light-bckgrd@3x.png
END:VEVENT
END:VCALENDAR