BEGIN:VCALENDAR
VERSION:2.0
PRODID:-//Powerlifting America - ECPv6.15.17.1//NONSGML v1.0//EN
CALSCALE:GREGORIAN
METHOD:PUBLISH
X-ORIGINAL-URL:https://powerlifting-america.com
X-WR-CALDESC:Events for Powerlifting America
REFRESH-INTERVAL;VALUE=DURATION:PT1H
X-Robots-Tag:noindex
X-PUBLISHED-TTL:PT1H
BEGIN:VTIMEZONE
TZID:America/New_York
BEGIN:DAYLIGHT
TZOFFSETFROM:-0500
TZOFFSETTO:-0400
TZNAME:EDT
DTSTART:20210314T070000
END:DAYLIGHT
BEGIN:STANDARD
TZOFFSETFROM:-0400
TZOFFSETTO:-0500
TZNAME:EST
DTSTART:20211107T060000
END:STANDARD
BEGIN:DAYLIGHT
TZOFFSETFROM:-0500
TZOFFSETTO:-0400
TZNAME:EDT
DTSTART:20220313T070000
END:DAYLIGHT
BEGIN:STANDARD
TZOFFSETFROM:-0400
TZOFFSETTO:-0500
TZNAME:EST
DTSTART:20221106T060000
END:STANDARD
BEGIN:DAYLIGHT
TZOFFSETFROM:-0500
TZOFFSETTO:-0400
TZNAME:EDT
DTSTART:20230312T070000
END:DAYLIGHT
BEGIN:STANDARD
TZOFFSETFROM:-0400
TZOFFSETTO:-0500
TZNAME:EST
DTSTART:20231105T060000
END:STANDARD
END:VTIMEZONE
BEGIN:VEVENT
DTSTART;VALUE=DATE:20220319
DTEND;VALUE=DATE:20220320
DTSTAMP:20260421T015437
CREATED:20211128T191752Z
LAST-MODIFIED:20241127T211727Z
UID:10000838-1647648000-1647734399@powerlifting-america.com
SUMMARY:Powerlifting America Rumble on the Rio
DESCRIPTION:Sanction #: 2022-NM-01 \nEvent Director: Michael Zawilinski \nRegistration: Enter Here \nMore Information: Mass-Lift
URL:https://powerlifting-america.com/event/powerlifting-america-rumble-on-the-rio-4__trashed/
LOCATION:Elite Physique Gym\, 1660 Rio Rancho Blvd SE Suite B\, Rio Rancho\, NM\, 87124\, United States
CATEGORIES:PA
ATTACH;FMTTYPE=image/png:https://powerlifting-america.com/wp-content/uploads/2021/11/ep-logo-v1.png
ORGANIZER;CN="Michael Zawilinski":MAILTO:mike@powerlifting-america.com
END:VEVENT
BEGIN:VEVENT
DTSTART;VALUE=DATE:20220319
DTEND;VALUE=DATE:20220320
DTSTAMP:20260421T015437
CREATED:20211128T191752Z
LAST-MODIFIED:20211128T191752Z
UID:10001618-1647648000-1647734399@powerlifting-america.com
SUMMARY:Powerlifting America Rumble on the Rio
DESCRIPTION:Sanction #: 2022-NM-01 \nEvent Director: Michael Zawilinski \nRegistration: Enter Here \nMore Information: Mass-Lift
URL:https://powerlifting-america.com/event/powerlifting-america-rumble-on-the-rio/
LOCATION:Elite Physique Gym\, 1660 Rio Rancho Blvd SE Suite B\, Rio Rancho\, NM\, 87124\, United States
CATEGORIES:PA
ATTACH;FMTTYPE=image/png:https://powerlifting-america.com/wp-content/uploads/2021/11/ep-logo-v1.png
ORGANIZER;CN="Michael Zawilinski":MAILTO:mike@powerlifting-america.com
END:VEVENT
END:VCALENDAR